BEGIN:VCALENDAR
VERSION:2.0
PRODID:-//UniverCity - Better Living on Burnaby Mountain - ECPv5.14.0.4//NONSGML v1.0//EN
CALSCALE:GREGORIAN
METHOD:PUBLISH
X-WR-CALNAME:UniverCity - Better Living on Burnaby Mountain
X-ORIGINAL-URL:https://univercity.ca
X-WR-CALDESC:Events for UniverCity - Better Living on Burnaby Mountain
BEGIN:VTIMEZONE
TZID:UTC
BEGIN:STANDARD
TZOFFSETFROM:+0000
TZOFFSETTO:+0000
TZNAME:UTC
DTSTART:20170101T000000
END:STANDARD
END:VTIMEZONE
BEGIN:VEVENT
DTSTART;TZID=UTC:20171228T133000
DTEND;TZID=UTC:20171228T163000
DTSTAMP:20260420T062503
CREATED:20171201T190304Z
LAST-MODIFIED:20171201T190304Z
UID:2484-1514467800-1514478600@univercity.ca
SUMMARY:Lego Club at McGill
DESCRIPTION:Calling all builders! Kids ages 4 and up are invited to drop in anytime between 1:30pm – 4:30pm to play with the library’s extensive LEGO collection. Moms and dads can join the fun too! Caregivers are required to accompany children under 10.\nwww.bpl.bc.ca/events/lego-club-at-mcgill-33
URL:https://univercity.ca/events-calendar/lego-club-mcgill-2/
LOCATION:McGill Burnaby Public Lbrary\, 4595 Albert Street\, Burnaby\, BC\, Canada
END:VEVENT
END:VCALENDAR